BEGIN:VCALENDAR
VERSION:2.0
PRODID:-//Krokovačka - ECPv6.7.0//NONSGML v1.0//EN
CALSCALE:GREGORIAN
METHOD:PUBLISH
X-WR-CALNAME:Krokovačka
X-ORIGINAL-URL:https://www.krokovacka.sk
X-WR-CALDESC:Events for Krokovačka
REFRESH-INTERVAL;VALUE=DURATION:PT1H
X-Robots-Tag:noindex
X-PUBLISHED-TTL:PT1H
BEGIN:VTIMEZONE
TZID:Europe/Bratislava
BEGIN:DAYLIGHT
TZOFFSETFROM:+0100
TZOFFSETTO:+0200
TZNAME:CEST
DTSTART:20240331T010000
END:DAYLIGHT
BEGIN:STANDARD
TZOFFSETFROM:+0200
TZOFFSETTO:+0100
TZNAME:CET
DTSTART:20241027T010000
END:STANDARD
END:VTIMEZONE
BEGIN:VEVENT
DTSTART;TZID=Europe/Bratislava:20240519T090000
DTEND;TZID=Europe/Bratislava:20240519T120000
DTSTAMP:20260426T055943
CREATED:20240510T201814Z
LAST-MODIFIED:20240530T135352Z
UID:1587-1716109200-1716120000@www.krokovacka.sk
SUMMARY:Kaštieľ Strážky - Spišská Belá - MUDr. Peter Marko
DESCRIPTION:Kráčať bude aj:\n\nMUDr. Dominika Brodanská\nMUDr. Lenka Bucová\nMUDr. Ahmadullah Fathi\nMUDr. Zuzana Mačudová\nMUDr. Peter Marko\, MPH\n\nInštruktor nordic walkingu:\n\nMária Benčatová\nViktor Lapšanský\nBeata Šimurdová\nZuzana Venglíková\n\nRegionálni partneri podujatia:\n\nMesto Spišská Belá\nSlovenská národná galéria\nZIP SPORT\nUNION poisťovňa\nSpolok lekárov Dr. Vojtecha Alexandra Kežmarok\nNUTRIVIT výživa a prevencia\nCafézia\nVladimír Kovalčík – catering zdravej výživy\n\nFotogaléria:\n  \n\n		\n		\n			\n				\n			\n			\n				\n			\n			\n				\n			\n			\n				\n			\n			\n				\n			\n			\n				\n			\n			\n				\n			\n			\n				\n			\n			\n				\n			\n		\n\nVideo:\n\nVideo reportáž:
URL:https://www.krokovacka.sk/event/kastiel-strazky-spisska-bela-mudr-peter-marko/
LOCATION:Denné centrum Strážky\, Ladislava Medňanského 2711/ 3A\, Spišská Belá – Strážky
CATEGORIES:Krokovačka 2024
END:VEVENT
BEGIN:VEVENT
DTSTART;TZID=Europe/Bratislava:20240516T170000
DTEND;TZID=Europe/Bratislava:20240516T200000
DTSTAMP:20260426T055943
CREATED:20240502T132316Z
LAST-MODIFIED:20240530T135302Z
UID:1567-1715878800-1715889600@www.krokovacka.sk
SUMMARY:Miloslavov - Pri Obecnom úrade - MUDr. Peter Lipovský
DESCRIPTION:Kráčať bude aj:\n\nMUDr. Lednická\nMUDr. Gottschallová\nMUDr. Tvrdá\nMUDr. Guzejobva\nMUDr. Lipovský L.\n\nFotogaléria:\n  \n\n		\n		\n			\n				\n			\n			\n				\n			\n			\n				\n			\n			\n				\n			\n			\n				\n			\n			\n				\n			\n		\n\n  \nVideo:\n\n 
URL:https://www.krokovacka.sk/event/miloslavov-pri-obecnom-urade-mudr-peter-lipovsky/
LOCATION:Miloslavov\, Obecný úrad\, Miloslavov
CATEGORIES:Krokovačka 2024
END:VEVENT
BEGIN:VEVENT
DTSTART;TZID=Europe/Bratislava:20240514T180000
DTEND;TZID=Europe/Bratislava:20240514T200000
DTSTAMP:20260426T055943
CREATED:20240430T130018Z
LAST-MODIFIED:20240528T081446Z
UID:1400-1715709600-1715716800@www.krokovacka.sk
SUMMARY:Košice - Lesopark Furča - MUDr. Diana Baranová
DESCRIPTION:  \nKráčať bude aj:\n\nMUDr. Anna Jolšvaiová\nMUDr.Richard Franko\nMUDr. Patricia Šimralová\nMUDr. Soňa Matušková\nMUDr. Katarína Straková\nMUDr. Stanislava Bachledová\nMUDr. Viera Hertelýová\nMUDr. Natália Vaňová\n\nFotogaléria:\n  \n\n		\n		\n			\n				\n			\n			\n				\n			\n			\n				\n			\n			\n				\n			\n			\n				\n			\n			\n				\n			\n			\n				\n			\n			\n				\n			\n			\n				\n			\n		\n\n  \nVideo:
URL:https://www.krokovacka.sk/event/kosice-lesopark-furca-mudr-diana-baranova/
LOCATION:Lesopark Furča\, Lesopark Furča\, Košice\, 040 14\, Slovenská republika
CATEGORIES:Krokovačka 2024
END:VEVENT
BEGIN:VEVENT
DTSTART;TZID=Europe/Bratislava:20240513T143000
DTEND;TZID=Europe/Bratislava:20240513T160000
DTSTAMP:20260426T055943
CREATED:20240502T130722Z
LAST-MODIFIED:20240522T092220Z
UID:1562-1715610600-1715616000@www.krokovacka.sk
SUMMARY:Bratislava - Medická záhrada (Letná čitáreň) - Krokovačka 2024
DESCRIPTION:Kráčať bude aj:\n\nMUDr. Jana Bendová\nMUDr. Katarína Dostálová\nMUDr. Peter Lipovský\nMUDr. Mária Matusová\nMUDr. Peter Pekarovič\nMUDr. Adriana Šimková\n\nFotogaléria:\n  \n\n		\n		\n			\n				\n			\n			\n				\n			\n			\n				\n			\n			\n				\n			\n			\n				\n			\n			\n				\n			\n			\n				\n			\n			\n				\n			\n			\n				\n			\n			\n				\n			\n			\n				\n			\n			\n				\n			\n		\n\nVideo:
URL:https://www.krokovacka.sk/event/bratislava-medicka-zahrada-letna-citaren-krokovacka-2024/
LOCATION:Medická záhrada\, Medická záhrada (Letná čitáreň)\, Bratislava
CATEGORIES:Krokovačka 2024
END:VEVENT
BEGIN:VEVENT
DTSTART;TZID=Europe/Bratislava:20240511T110000
DTEND;TZID=Europe/Bratislava:20240511T140000
DTSTAMP:20260426T055943
CREATED:20240502T124003Z
LAST-MODIFIED:20240521T075151Z
UID:1544-1715425200-1715436000@www.krokovacka.sk
SUMMARY:Veľký Biel - Pri Kaštieli - MUDr. Jana Bendová
DESCRIPTION:Kráčať bude aj:\n\nMUDr. Anna Mudráková\n\nVideo:\n\n\nFotogaléria:
URL:https://www.krokovacka.sk/event/velky-biel-pri-kastieli-mudr-jana-bendova/
LOCATION:Kaštieľ Veľký Biel\, Kaštieľ Veľký Biel\, Ve%lký Biel
CATEGORIES:Krokovačka 2024
END:VEVENT
END:VCALENDAR