BEGIN:VCALENDAR
VERSION:2.0
PRODID:-//Krokovačka - ECPv6.7.0//NONSGML v1.0//EN
CALSCALE:GREGORIAN
METHOD:PUBLISH
X-WR-CALNAME:Krokovačka
X-ORIGINAL-URL:https://www.krokovacka.sk
X-WR-CALDESC:Events for Krokovačka
REFRESH-INTERVAL;VALUE=DURATION:PT1H
X-Robots-Tag:noindex
X-PUBLISHED-TTL:PT1H
BEGIN:VTIMEZONE
TZID:Europe/Bratislava
BEGIN:DAYLIGHT
TZOFFSETFROM:+0100
TZOFFSETTO:+0200
TZNAME:CEST
DTSTART:20260329T010000
END:DAYLIGHT
BEGIN:STANDARD
TZOFFSETFROM:+0200
TZOFFSETTO:+0100
TZNAME:CET
DTSTART:20261025T010000
END:STANDARD
END:VTIMEZONE
BEGIN:VEVENT
DTSTART;TZID=Europe/Bratislava:20260518T170000
DTEND;TZID=Europe/Bratislava:20260518T190000
DTSTAMP:20260425T181612
CREATED:20260421T182320Z
LAST-MODIFIED:20260421T182545Z
UID:2435-1779123600-1779130800@www.krokovacka.sk
SUMMARY:Košice – Mestský park Košice – MUDr. Diana Baranová – Krokovačka 2026
DESCRIPTION:
URL:https://www.krokovacka.sk/event/kosice-mestsky-park-kosice-mudr-diana-baranova-krokovacka-2026/
LOCATION:Mestský park Košice
CATEGORIES:Krokovačka 2026
END:VEVENT
END:VCALENDAR