BEGIN:VCALENDAR
VERSION:2.0
PRODID:-//Krokovačka - ECPv6.7.0//NONSGML v1.0//EN
CALSCALE:GREGORIAN
METHOD:PUBLISH
X-WR-CALNAME:Krokovačka
X-ORIGINAL-URL:https://www.krokovacka.sk
X-WR-CALDESC:Events for Krokovačka
REFRESH-INTERVAL;VALUE=DURATION:PT1H
X-Robots-Tag:noindex
X-PUBLISHED-TTL:PT1H
BEGIN:VTIMEZONE
TZID:Europe/Bratislava
BEGIN:DAYLIGHT
TZOFFSETFROM:+0100
TZOFFSETTO:+0200
TZNAME:CEST
DTSTART:20250330T010000
END:DAYLIGHT
BEGIN:STANDARD
TZOFFSETFROM:+0200
TZOFFSETTO:+0100
TZNAME:CET
DTSTART:20251026T010000
END:STANDARD
END:VTIMEZONE
BEGIN:VEVENT
DTSTART;TZID=Europe/Bratislava:20250608T100000
DTEND;TZID=Europe/Bratislava:20250608T140000
DTSTAMP:20260425T214555
CREATED:20250516T134209Z
LAST-MODIFIED:20250630T081051Z
UID:2109-1749376800-1749391200@www.krokovacka.sk
SUMMARY:Hlohovec – Pánska záhrada – MUDr. Veronika Jakubovičová - Krokovačka 2025
DESCRIPTION: 
URL:https://www.krokovacka.sk/event/hlohovec-panska-zahrada-mudr-veronika-jakubovicova-krokovacka-2025/
LOCATION:Hlohovec\, Hlohovec
CATEGORIES:Krokovačka 2025
END:VEVENT
BEGIN:VEVENT
DTSTART;TZID=Europe/Bratislava:20250603T150000
DTEND;TZID=Europe/Bratislava:20250603T190000
DTSTAMP:20260425T214555
CREATED:20250513T082620Z
LAST-MODIFIED:20250714T121824Z
UID:2049-1748962800-1748977200@www.krokovacka.sk
SUMMARY:Bratislava – Poliklinika Bezručova – MUDr. Alena Hlavatá - Krokovačka 2025
DESCRIPTION:
URL:https://www.krokovacka.sk/event/bratislava-poliklinika-bezrucova-mudr-alena-hlavata-krokovacka-2025/
LOCATION:Poliklinika Bezručova\, Bezručova 5\, Bratislava\, 811 09
CATEGORIES:Krokovačka 2025
END:VEVENT
BEGIN:VEVENT
DTSTART;TZID=Europe/Bratislava:20250524T123000
DTEND;TZID=Europe/Bratislava:20250524T160000
DTSTAMP:20260425T214555
CREATED:20250516T075403Z
LAST-MODIFIED:20250527T073756Z
UID:2100-1748089800-1748102400@www.krokovacka.sk
SUMMARY:Želovce – Ihrisko – MUDr. Ľudmila Resutíková - Krokovačka 2025
DESCRIPTION:
URL:https://www.krokovacka.sk/event/zelovce-ihrisko-mudr-ludmila-resutikova-krokovacka-2025/
LOCATION:Želovce\, Ihrisko\, Želovce
CATEGORIES:Krokovačka 2025
END:VEVENT
BEGIN:VEVENT
DTSTART;TZID=Europe/Bratislava:20250523T150000
DTEND;TZID=Europe/Bratislava:20250523T190000
DTSTAMP:20260425T214555
CREATED:20250513T145509Z
LAST-MODIFIED:20250714T114640Z
UID:2065-1748012400-1748026800@www.krokovacka.sk
SUMMARY:Holíč – Kaštieľ Beseda – MUDr. Andrea Švrčková - Krokovačka 2025
DESCRIPTION:
URL:https://www.krokovacka.sk/event/holic-kastiel-beseda-mudr-andrea-svrckova-krokovacka-2025/
LOCATION:Kaštieľ Beseda\, Holíč
CATEGORIES:Krokovačka 2025
END:VEVENT
BEGIN:VEVENT
DTSTART;TZID=Europe/Bratislava:20250522T160000
DTEND;TZID=Europe/Bratislava:20250522T190000
DTSTAMP:20260425T214555
CREATED:20250513T142831Z
LAST-MODIFIED:20250714T114627Z
UID:2061-1747929600-1747940400@www.krokovacka.sk
SUMMARY:Bratislava – Veľký Draždiak – Silvia Masaryková - Krokovačka 2025
DESCRIPTION:
URL:https://www.krokovacka.sk/event/bratislava-velky-drazdiak-silvia-masarykova-krokovacka-2025/
LOCATION:Veľký Draždiak\, Bratislava
CATEGORIES:Krokovačka 2025
END:VEVENT
BEGIN:VEVENT
DTSTART;TZID=Europe/Bratislava:20250522T160000
DTEND;TZID=Europe/Bratislava:20250522T190000
DTSTAMP:20260425T214555
CREATED:20250512T202122Z
LAST-MODIFIED:20250714T115237Z
UID:2034-1747929600-1747940400@www.krokovacka.sk
SUMMARY:Bobrovec – Pošta – MUDr. Matej Hečko - Krokovačka 2025
DESCRIPTION:
URL:https://www.krokovacka.sk/event/bobrovec-posta-mudr-matej-hecko-krokovacka-2025/
LOCATION:Bobrovec\, Bobrovec\, 03221
CATEGORIES:Krokovačka 2025
END:VEVENT
BEGIN:VEVENT
DTSTART;TZID=Europe/Bratislava:20250522T150000
DTEND;TZID=Europe/Bratislava:20250522T190000
DTSTAMP:20260425T214555
CREATED:20250513T145733Z
LAST-MODIFIED:20250714T114617Z
UID:2072-1747926000-1747940400@www.krokovacka.sk
SUMMARY:Prešov – Poliklinika – MUDr. Peter Klein - Krokovačka 2025
DESCRIPTION:
URL:https://www.krokovacka.sk/event/presov-poliklinika-mudr-peter-klein-krokovacka-2025/
LOCATION:Poliklinika Prešov\, Poliklinika Prešov\, Prešov\, Slovenská republika
CATEGORIES:Krokovačka 2025
END:VEVENT
BEGIN:VEVENT
DTSTART;TZID=Europe/Bratislava:20250521T170000
DTEND;TZID=Europe/Bratislava:20250521T200000
DTSTAMP:20260425T214555
CREATED:20250513T192701Z
LAST-MODIFIED:20250630T080819Z
UID:2081-1747846800-1747857600@www.krokovacka.sk
SUMMARY:Miloslavov – Ihrisko SKO – MUDr. Peter Lipovský - Krokovačka 2025
DESCRIPTION:
URL:https://www.krokovacka.sk/event/miloslavov-ihrisko-sko-mudr-peter-lipovsky-krokovacka-2025/
LOCATION:Športový klub obce Miloslavov\, Miloslavov\, 900 42
CATEGORIES:Krokovačka 2025
END:VEVENT
BEGIN:VEVENT
DTSTART;TZID=Europe/Bratislava:20250520T120000
DTEND;TZID=Europe/Bratislava:20250520T160000
DTSTAMP:20260425T214555
CREATED:20250512T122846Z
LAST-MODIFIED:20250714T121639Z
UID:2008-1747742400-1747756800@www.krokovacka.sk
SUMMARY:Snina – Ihrisko SOŠ – MUDr. Peter Makara - Krokovačka 2025
DESCRIPTION: 
URL:https://www.krokovacka.sk/event/snina-ihrisko-sos-mudr-peter-makara-krokovacka-2025/
LOCATION:Stredná odborná škola Snina\, Sládkovičova 2723/120\, Snina\, 06927
CATEGORIES:Krokovačka 2025
END:VEVENT
BEGIN:VEVENT
DTSTART;TZID=Europe/Bratislava:20250520T100000
DTEND;TZID=Europe/Bratislava:20250520T150000
DTSTAMP:20260425T214555
CREATED:20250512T124028Z
LAST-MODIFIED:20250714T121628Z
UID:2015-1747735200-1747753200@www.krokovacka.sk
SUMMARY:Medzev – Pri kríži – MUDr. Erika Csachová - Krokovačka 2025
DESCRIPTION:
URL:https://www.krokovacka.sk/event/medzev-pri-krizi-mudr-erika-csachova-krokovacka-2025/
LOCATION:Medzev – Pri kríži\, Medzev
CATEGORIES:Krokovačka 2025
END:VEVENT
BEGIN:VEVENT
DTSTART;TZID=Europe/Bratislava:20250519T170000
DTEND;TZID=Europe/Bratislava:20250519T200000
DTSTAMP:20260425T214555
CREATED:20250506T213355Z
LAST-MODIFIED:20250714T121618Z
UID:1939-1747674000-1747684800@www.krokovacka.sk
SUMMARY:Košice – Mestský park Košice – MUDr. Diana Baranová - Krokovačka 2025
DESCRIPTION:
URL:https://www.krokovacka.sk/event/kosice-mestsky-park-kosice-mudr-diana-baranova-krokovacka-2025/
LOCATION:Mestský park Košice
CATEGORIES:Krokovačka 2025
END:VEVENT
BEGIN:VEVENT
DTSTART;TZID=Europe/Bratislava:20250519T150000
DTEND;TZID=Europe/Bratislava:20250519T190000
DTSTAMP:20260425T214555
CREATED:20250513T074636Z
LAST-MODIFIED:20250714T114609Z
UID:2041-1747666800-1747681200@www.krokovacka.sk
SUMMARY:Bratislava – Medická záhrada - Krokovačka 2025
DESCRIPTION:
URL:https://www.krokovacka.sk/event/bratislava-medicka-zahrada-krokovacka-2025/
LOCATION:Medická záhrada\, Medická záhrada (Letná čitáreň)\, Bratislava
CATEGORIES:Krokovačka 2025
END:VEVENT
BEGIN:VEVENT
DTSTART;TZID=Europe/Bratislava:20250518T150000
DTEND;TZID=Europe/Bratislava:20250518T180000
DTSTAMP:20260425T214555
CREATED:20250508T135918Z
LAST-MODIFIED:20250714T121246Z
UID:1979-1747580400-1747591200@www.krokovacka.sk
SUMMARY:Svidník – Pešia zóna – MUDr. Mariana Franková - Krokovačka 2025
DESCRIPTION:
URL:https://www.krokovacka.sk/event/svidnik-pesia-zona-mudr-mariana-frankova-krokovacka-2025/
CATEGORIES:Krokovačka 2025
END:VEVENT
BEGIN:VEVENT
DTSTART;TZID=Europe/Bratislava:20250518T140000
DTEND;TZID=Europe/Bratislava:20250518T180000
DTSTAMP:20260425T214555
CREATED:20250508T143749Z
LAST-MODIFIED:20250714T121232Z
UID:1988-1747576800-1747591200@www.krokovacka.sk
SUMMARY:Šaľa – Amfiteáter – MUDr. Katarína Kováčová - Krokovačka 2025
DESCRIPTION:Program – KROKOVAČKA 2025\nMiesto: Šaľa – Amfiteáter\nDátum: 18. 5. 2025 (nedeľa)\nČas: od 14:00 \nOd 14:00 – Začiatok podujatia\, registrácia účastníkov  \nPríhovor lekárov: MUDr. Katarína Kováčová\, \n\nVystúpenie Anna Slížová\nIveta Pappová – Zdravé nohy\, zdravý chrbát\nMichaela Layla Al-Eyani- Základy prvej pomoci „ Zachráň koho môžeš!“\nDoc. MUDr. Adela Penesová\, PhD. – Obezita a najnovšie možnosti liečby\nNordic Walking – Mgr. Lukáš Novotný  prezident Športovej federácie Nordic walking predstavenie športu\, techniky\, príslušenstva\nVystupenie Akademia Artista\, Salsation so Sisou\nRozcvička\n\n16:00 – KROKOVAČKA\nKráčame pre zdravie od amfiteátra po násype\, cez lesopark\, späť na amfiteáter. \n16:45 – Tombola pre účastníkov \n17:30 – Záver podujatia \n\nLekári\, ktorí podporia naše podujatie:\n\nMUDr. Michaela Layla Al-Eyani – úrazová chirurgia\, lektor prvej pomoci\nMUDr. Lórant Bobák- vnutorné lekárstvo\, nefrológia\, pneumológia\nMUDr. Alena Bobáková- alergológia\nMUDr. Petra Borsosová – otorinolaryngológia\nMUDr. Patrícia Borzová- psychiatria\nMUDr. Ľuboslav Džugan – pediatria\nMUDr. Martin Gabarík – vnútorné lekárstvo\nMUDr. Stanislava Chromeková- pediatria\nMUDr. Miloš Hoppan\, MPH- všeobecné lekárstvo\, anesteziológia\nMUDr. Mária Jarošová\, MPH- posudkové lekárstvo\, všeobecné lekárstvo\nMUDr. Eleonóra Juhosová – pediatria\nMUDr. Zuzana Klačková- vnútorné lekárstvo\, všeobecné lekárstvo\nMUDr. Katarína Kováčová- všeobecné lekárstvo\, nefrológia\nMUDr. Innet Lajtmanová – nefrológia\, všeobecné lekárstvo\nMUDr. Mária Maláriková – detská kardiológia\nMUDr. Miriam Pálová- všeobecné lekárstvo\nMUDr. Iveta Pappová – fyziatria\, balneológia a liečebná rehabilitácia\nMUDr. Martina Slováčiková\, MPH – geriatria\nMUDr. Kristína Švecová- rádiológia\nMUDr. Martina Vagovičová- vnútorné lekárstvo\, všeobecné lekárstvo\nMUDr. Marián Vagovič\, MPH- chirurgia\nMUDr. Janka Vašková – pediatria\nMUDr. Jana Vnuková- dermatológia\ndoc. MUDr. Adela Penesová\, PhD. – obezitológia\, vedecký pracovník Slovenskej akademie vied\n\nPartneri:\n\nMesto Šaľa\nMládežnícky parlament mesta Šaľa\nMaterské centrum Mamy mamám Šaľa\nSalsation so Sisou\nAllrisk Slovakia\nAdamova Akadémia\nLekáreň Dalen\nRelax CAVE\nPegyRehab\nSalón krásy Jarka\nČajovňa na konci vesmíru\nLekáreň Alia\nKM koučing\nMasážny salón Angelika\nPetra Jedličková\nBc. Silvia Kováčová – Sauna u Sisi\nSoňa Mišurová – cvičiteľka pilatesu\, certifikovaná inštruktorka SM-systému\nMUDr. Iveta Pappová – lekár špecialista v odbore fyziatria\, balneológia a liečebná rehabilitácia\nOptika Optima\nFocesa\nDuslo a.s.\nBagetéria MOMA Šaľa–Veča\nMediElic s.r.o.\nPekáreň Toriška Šaľa\nKNIHY – MOLNÁR – KÖNYV Dunajská Streda\nPielArte Institute\nMichal Filip\nK2 Fitness\nGelateria Edoni\n\n 
URL:https://www.krokovacka.sk/event/sala-amfiteater-mudr-katarina-kovacova-krokovacka-2025/
LOCATION:Amfiteáter Šaľa\, Amfiteáter Šaľa\, Šaľa
CATEGORIES:Krokovačka 2025
END:VEVENT
BEGIN:VEVENT
DTSTART;TZID=Europe/Bratislava:20250518T140000
DTEND;TZID=Europe/Bratislava:20250518T180000
DTSTAMP:20260425T214555
CREATED:20250508T103151Z
LAST-MODIFIED:20250714T121222Z
UID:1970-1747576800-1747591200@www.krokovacka.sk
SUMMARY:Terňa – Pri Obecnom úrade – MUDr. Ľubomír Molčan - Krokovačka 2025
DESCRIPTION:
URL:https://www.krokovacka.sk/event/terna-pri-obecnom-urade-mudr-lubomir-molcan-krokovacka-2025/
LOCATION:Terňa\, Obecný úrad\, Terňa
CATEGORIES:Krokovačka 2025
END:VEVENT
BEGIN:VEVENT
DTSTART;TZID=Europe/Bratislava:20250518T090000
DTEND;TZID=Europe/Bratislava:20250518T170000
DTSTAMP:20260425T214555
CREATED:20250409T070523Z
LAST-MODIFIED:20250714T115859Z
UID:1908-1747558800-1747587600@www.krokovacka.sk
SUMMARY:Kaštieľ Strážky – Spišská Belá – MUDr. Peter Marko - Krokovačka 2025
DESCRIPTION:  \nLektori Nordic walking\n  \nLukáš Novotný\nVedie Športovú federáciu Nordic Walking na Slovensku. Má najvyššie oprávnenie viesť tréning pre inštruktorov Nordic Walking – Master Trainer Platinum od Svetovej federácie ONWF. Pôsobí ako medzinárodný rozhodca NW a rozhoduje na Majstrovstvách sveta a Svetových pohároch NW. Vzdelanie o NW si dopĺňal v Českomoravskej federácii NW a tiež má kurz Moderný Nordic Walking.  Venoval  sa profesionálne behu na lyžiach a biatlonu. \n \nMiroslava Juhásová\nInštruktorka Športuvej federácie Nordic Walking. Medzinárodný rozhodca NW. Rozhoduje na Svetových pohároch. Vzdelanie dopĺňané v Českomoravskej federácii NW. Vyštudovala telesnú výchovu a biológiu. Venovala sa profesionálne behu na lyžiach. \n \nJuraj Brugoš\nInštruktor Športovej federácie Nordic Walking. Pôsobil ako reprezentačný tréner v behu na lyžiach. Profesionálne sa venoval behu na lyžiach. \n \n 
URL:https://www.krokovacka.sk/event/kastiel-strazky-spisska-bela-mudr-peter-marko-krokovacka-2025/
LOCATION:Kaštiel Strážky\, Mednyánszkeho 25\, Spišská Belá-Strážky\, 05901
CATEGORIES:Krokovačka 2025
END:VEVENT
BEGIN:VEVENT
DTSTART;TZID=Europe/Bratislava:20250515T170000
DTEND;TZID=Europe/Bratislava:20250515T200000
DTSTAMP:20260425T214555
CREATED:20250508T095318Z
LAST-MODIFIED:20250714T115909Z
UID:1963-1747328400-1747339200@www.krokovacka.sk
SUMMARY:Pezinok – Zámocký park – MUDr. Adriana Šimková – Krokovačka 2025
DESCRIPTION:
URL:https://www.krokovacka.sk/event/pezinok-zamocky-park-mudr-adriana-simkova-krokovacka-2025/
LOCATION:Zámocky park Pezinok
CATEGORIES:Krokovačka 2025
END:VEVENT
BEGIN:VEVENT
DTSTART;TZID=Europe/Bratislava:20250513T150000
DTEND;TZID=Europe/Bratislava:20250513T200000
DTSTAMP:20260425T214555
CREATED:20250508T095432Z
LAST-MODIFIED:20250714T115216Z
UID:1966-1747148400-1747166400@www.krokovacka.sk
SUMMARY:Trnava – Promenáda – MUDr. Lenka Cisárová - Krokovačka 2025
DESCRIPTION:
URL:https://www.krokovacka.sk/event/trnava-park-kamenac-mudr-lenka-cisarova-krokovacka-2025/
LOCATION:Trnava
CATEGORIES:Krokovačka 2025
END:VEVENT
BEGIN:VEVENT
DTSTART;TZID=Europe/Bratislava:20250506T140000
DTEND;TZID=Europe/Bratislava:20250506T170000
DTSTAMP:20260425T214555
CREATED:20250502T132730Z
LAST-MODIFIED:20250714T115151Z
UID:1927-1746540000-1746550800@www.krokovacka.sk
SUMMARY:Námestie sv. Františka – Bratislava – MUDr. Katarína Dostálová - Krokovačka 2025
DESCRIPTION:
URL:https://www.krokovacka.sk/event/namestie-sv-frantiska-bratislava-mudr-katarina-dostalova-krokovacka-2025/
CATEGORIES:Krokovačka 2025
END:VEVENT
END:VCALENDAR